BEGIN:VCALENDAR
VERSION:2.0
PRODID:-//perennial - ECPv6.14.0//NONSGML v1.0//EN
CALSCALE:GREGORIAN
METHOD:PUBLISH
X-WR-CALNAME:perennial
X-ORIGINAL-URL:https://perennialstl.org
X-WR-CALDESC:Events for perennial
REFRESH-INTERVAL;VALUE=DURATION:PT1H
X-Robots-Tag:noindex
X-PUBLISHED-TTL:PT1H
BEGIN:VTIMEZONE
TZID:America/Chicago
BEGIN:DAYLIGHT
TZOFFSETFROM:-0600
TZOFFSETTO:-0500
TZNAME:CDT
DTSTART:20260308T080000
END:DAYLIGHT
BEGIN:STANDARD
TZOFFSETFROM:-0500
TZOFFSETTO:-0600
TZNAME:CST
DTSTART:20261101T070000
END:STANDARD
END:VTIMEZONE
BEGIN:VEVENT
DTSTART;TZID=America/Chicago:20260813T180000
DTEND;TZID=America/Chicago:20260813T193000
DTSTAMP:20260422T151726
CREATED:20260306T193241Z
LAST-MODIFIED:20260306T193241Z
UID:98943-1786644000-1786649400@perennialstl.org
SUMMARY:Tools 101: Dremel
DESCRIPTION:Skills you’ll learn:\ndremel \nA dremel is a handy\, small but mighty tool. Learn how to use it for repair tasks\, tiny model-sized work\, engraving\, polishing\, cutting screws\, cutting tiles\, and more! \n 
URL:https://perennialstl.org/event/tools-101-dremel-7/
LOCATION:Perennial\, 3762 S. Broadway\, Saint Louis\, MO\, 63118\, United States
CATEGORIES:All Classes,Tools 101,Woodworking + Upholstery
ATTACH;FMTTYPE=image/jpeg:https://perennialstl.org/wp-content/uploads/2025/03/Dremel.jpg
GEO:38.586284;-90.22596
X-APPLE-STRUCTURED-LOCATION;VALUE=URI;X-ADDRESS=Perennial 3762 S. Broadway Saint Louis MO 63118 United States;X-APPLE-RADIUS=500;X-TITLE=3762 S. Broadway:geo:-90.22596,38.586284
END:VEVENT
BEGIN:VEVENT
DTSTART;TZID=America/Chicago:20260818T180000
DTEND;TZID=America/Chicago:20260818T200000
DTSTAMP:20260422T151726
CREATED:20260306T193420Z
LAST-MODIFIED:20260306T193420Z
UID:99021-1787076000-1787083200@perennialstl.org
SUMMARY:Tools 101: Power Saws
DESCRIPTION:Skills you’ll learn:\nchop saw/miter saw\, band saw\, jig saw\, circular saw \nLearn how to safely and effectively cut reclaimed wood with the power tools in Perennial’s woodshop. In this hour and a half hands-on demo\, you’ll learn how to safely use the chop saw (miter saw) to make square and angled cuts. By learning the band saw and jig saw\, you’ll be able to make unique cuts of virtually any shape. By completing this crash course\, you will be trained to properly and safely use any of the power saws listed above for future projects at Perennial. \n 
URL:https://perennialstl.org/event/tools-101-power-saws-19/
LOCATION:Perennial\, 3762 S. Broadway\, Saint Louis\, MO\, 63118\, United States
CATEGORIES:All Classes,Tools 101,Woodworking + Upholstery
ATTACH;FMTTYPE=image/jpeg:https://perennialstl.org/wp-content/uploads/2022/04/tools-101_chop-saw.jpg
GEO:38.586284;-90.22596
X-APPLE-STRUCTURED-LOCATION;VALUE=URI;X-ADDRESS=Perennial 3762 S. Broadway Saint Louis MO 63118 United States;X-APPLE-RADIUS=500;X-TITLE=3762 S. Broadway:geo:-90.22596,38.586284
END:VEVENT
BEGIN:VEVENT
DTSTART;TZID=America/Chicago:20260820T180000
DTEND;TZID=America/Chicago:20260820T193000
DTSTAMP:20260422T151726
CREATED:20260306T193424Z
LAST-MODIFIED:20260306T193424Z
UID:98978-1787248800-1787254200@perennialstl.org
SUMMARY:Tools 101: Drills + Sander + Planer
DESCRIPTION:Skills you’ll learn:\npower drill\, drill press\, belt sander\, planer \nLearn how to safely and effectively cut your reclaimed wood with the tools in Perennial’s wood shop. In this hour and a half demo\, you’ll learn how to safely use hand-held power drills and the drill press to create joinery and attach hardware to your projects. We will also learn how to smooth and shape your wood projects with the belt sander and thickness planer. By completing this crash course\, you will be trained to properly and safely use the power drill\, drill press\, belt sander\, and planer for future projects at Perennial. \n 
URL:https://perennialstl.org/event/tools-101-drills-sander-planer-20/
LOCATION:Perennial\, 3762 S. Broadway\, Saint Louis\, MO\, 63118\, United States
CATEGORIES:All Classes,Tools 101,Woodworking + Upholstery
ATTACH;FMTTYPE=image/jpeg:https://perennialstl.org/wp-content/uploads/2017/08/drills.-sander.-planer.jpg
GEO:38.586284;-90.22596
X-APPLE-STRUCTURED-LOCATION;VALUE=URI;X-ADDRESS=Perennial 3762 S. Broadway Saint Louis MO 63118 United States;X-APPLE-RADIUS=500;X-TITLE=3762 S. Broadway:geo:-90.22596,38.586284
END:VEVENT
BEGIN:VEVENT
DTSTART;TZID=America/Chicago:20260825T180000
DTEND;TZID=America/Chicago:20260825T200000
DTSTAMP:20260422T151726
CREATED:20260306T193606Z
LAST-MODIFIED:20260306T193606Z
UID:99000-1787680800-1787688000@perennialstl.org
SUMMARY:Tools 101: Lathe
DESCRIPTION:Skills you’ll learn:\nlathe woodturning \nLearn how to safely and effectively shape reclaimed wood with the lathe in Perennial’s woodshop. In this hour and a half hands-on demo\, you’ll learn how to safely use the lathe to turn wood to make bowls\, spindles\, vessels\, and more (with lots of practice!).  You’ll discuss the different tools used on the lathe\, including different gouges and the parting tool. By completing this crash course\, you will be trained to properly and safely use the lathe for future projects at Perennial. \nWith any woodworking project\, it takes practice to master the skills necessary\, but this course will introduce you to the tools and safe practices. \n 
URL:https://perennialstl.org/event/tools-101-lathe-12/
LOCATION:Perennial\, 3762 S. Broadway\, Saint Louis\, MO\, 63118\, United States
CATEGORIES:All Classes,Tools 101,Woodworking + Upholstery
ATTACH;FMTTYPE=image/png:https://perennialstl.org/wp-content/uploads/2018/12/Lathe.png
GEO:38.586284;-90.22596
X-APPLE-STRUCTURED-LOCATION;VALUE=URI;X-ADDRESS=Perennial 3762 S. Broadway Saint Louis MO 63118 United States;X-APPLE-RADIUS=500;X-TITLE=3762 S. Broadway:geo:-90.22596,38.586284
END:VEVENT
BEGIN:VEVENT
DTSTART;TZID=America/Chicago:20260903T180000
DTEND;TZID=America/Chicago:20260903T193000
DTSTAMP:20260422T151726
CREATED:20260306T193953Z
LAST-MODIFIED:20260306T193953Z
UID:99068-1788458400-1788463800@perennialstl.org
SUMMARY:Tools 101: Traditional Hand Tools
DESCRIPTION:Skills you’ll learn:\nback saw\, hand saw\, pull saw\, coping saw\, jack plane\, block plane\, wood chisels \nLet’s go back to basics! Learn how to safely and effectively use a variety of hand tools in Perennial’s woodshop. In this hour and a half hands-on demo\, you’ll learn the uses of traditional hand tools and gain a greater understanding of modern versions of those tools\, including power tools. By completing this crash course\, you will be trained to properly and safely use any of the tools listed above for future projects at Perennial. \n 
URL:https://perennialstl.org/event/tools-101-traditional-hand-tools-15/
LOCATION:Perennial\, 3762 S. Broadway\, Saint Louis\, MO\, 63118\, United States
CATEGORIES:All Classes,Tools 101,Woodworking + Upholstery
ATTACH;FMTTYPE=image/jpeg:https://perennialstl.org/wp-content/uploads/2023/11/traditional-hand-tools.jpg
GEO:38.586284;-90.22596
X-APPLE-STRUCTURED-LOCATION;VALUE=URI;X-ADDRESS=Perennial 3762 S. Broadway Saint Louis MO 63118 United States;X-APPLE-RADIUS=500;X-TITLE=3762 S. Broadway:geo:-90.22596,38.586284
END:VEVENT
BEGIN:VEVENT
DTSTART;TZID=America/Chicago:20260908T180000
DTEND;TZID=America/Chicago:20260908T193000
DTSTAMP:20260422T151726
CREATED:20260306T194139Z
LAST-MODIFIED:20260306T194139Z
UID:99051-1788890400-1788895800@perennialstl.org
SUMMARY:Tools 101: Table Saw
DESCRIPTION:Skills you’ll learn:\ntable saw\, circular saw \nLearn how to safely and effectively cut your reclaimed wood with the tools in Perennial’s woodshop. In this hour and a half demo\, you’ll learn how to safely use Perennial’s Saw Stop table saw to rip long boards and make cross cuts. You’ll learn how to identify when a circular saw would be a better fit for your cutting needs and how to safely clamp your wood and utilize this tool to make your projects come to life. By completing this crash course\, you will be trained to safely and properly use the table saw and circular saw for future projects at Perennial. \n 
URL:https://perennialstl.org/event/tools-101-table-saw-19/
LOCATION:Perennial\, 3762 S. Broadway\, Saint Louis\, MO\, 63118\, United States
CATEGORIES:All Classes,Tools 101,Woodworking + Upholstery
ATTACH;FMTTYPE=image/jpeg:https://perennialstl.org/wp-content/uploads/2022/08/table-saw.jpg
GEO:38.586284;-90.22596
X-APPLE-STRUCTURED-LOCATION;VALUE=URI;X-ADDRESS=Perennial 3762 S. Broadway Saint Louis MO 63118 United States;X-APPLE-RADIUS=500;X-TITLE=3762 S. Broadway:geo:-90.22596,38.586284
END:VEVENT
BEGIN:VEVENT
DTSTART;TZID=America/Chicago:20260910T180000
DTEND;TZID=America/Chicago:20260910T200000
DTSTAMP:20260422T151726
CREATED:20260306T194324Z
LAST-MODIFIED:20260306T194324Z
UID:99038-1789063200-1789070400@perennialstl.org
SUMMARY:Tools 101: Router
DESCRIPTION:Skills you’ll learn:\nhand router\, table router\, trim router \nLearn how to safely and effectively shape reclaimed wood with the router tools in Perennial’s woodshop. In this 2-hour hands-on demo\, you’ll learn how to safely use a handheld and table router to add appealing decorative finishes to your woodworking projects. These tools will allow you to engrave\, carve\, and cut wood to give your project a professional finish. Participants will leave with a small sampler of routered wood scrap. \nWith any woodworking project\, it takes practice to master the skills necessary\, but this course will introduce you to the tools and safe practices. \n 
URL:https://perennialstl.org/event/tools-101-router-7/
LOCATION:Perennial\, 3762 S. Broadway\, Saint Louis\, MO\, 63118\, United States
CATEGORIES:All Classes,Tools 101,Woodworking + Upholstery
ATTACH;FMTTYPE=image/jpeg:https://perennialstl.org/wp-content/uploads/2022/12/router.jpg
GEO:38.586284;-90.22596
X-APPLE-STRUCTURED-LOCATION;VALUE=URI;X-ADDRESS=Perennial 3762 S. Broadway Saint Louis MO 63118 United States;X-APPLE-RADIUS=500;X-TITLE=3762 S. Broadway:geo:-90.22596,38.586284
END:VEVENT
BEGIN:VEVENT
DTSTART;TZID=America/Chicago:20260915T180000
DTEND;TZID=America/Chicago:20260915T200000
DTSTAMP:20260422T151726
CREATED:20260306T194329Z
LAST-MODIFIED:20260306T194329Z
UID:99022-1789495200-1789502400@perennialstl.org
SUMMARY:Tools 101: Power Saws
DESCRIPTION:Skills you’ll learn:\nchop saw/miter saw\, band saw\, jig saw\, circular saw \nLearn how to safely and effectively cut reclaimed wood with the power tools in Perennial’s woodshop. In this hour and a half hands-on demo\, you’ll learn how to safely use the chop saw (miter saw) to make square and angled cuts. By learning the band saw and jig saw\, you’ll be able to make unique cuts of virtually any shape. By completing this crash course\, you will be trained to properly and safely use any of the power saws listed above for future projects at Perennial. \n 
URL:https://perennialstl.org/event/tools-101-power-saws-20/
LOCATION:Perennial\, 3762 S. Broadway\, Saint Louis\, MO\, 63118\, United States
CATEGORIES:All Classes,Tools 101,Woodworking + Upholstery
ATTACH;FMTTYPE=image/jpeg:https://perennialstl.org/wp-content/uploads/2022/04/tools-101_chop-saw.jpg
GEO:38.586284;-90.22596
X-APPLE-STRUCTURED-LOCATION;VALUE=URI;X-ADDRESS=Perennial 3762 S. Broadway Saint Louis MO 63118 United States;X-APPLE-RADIUS=500;X-TITLE=3762 S. Broadway:geo:-90.22596,38.586284
END:VEVENT
BEGIN:VEVENT
DTSTART;TZID=America/Chicago:20260922T180000
DTEND;TZID=America/Chicago:20260922T193000
DTSTAMP:20260422T151726
CREATED:20260306T194535Z
LAST-MODIFIED:20260306T194535Z
UID:98980-1790100000-1790105400@perennialstl.org
SUMMARY:Tools 101: Drills + Sander + Planer
DESCRIPTION:Skills you’ll learn:\npower drill\, drill press\, belt sander\, planer \nLearn how to safely and effectively cut your reclaimed wood with the tools in Perennial’s wood shop. In this hour and a half demo\, you’ll learn how to safely use hand-held power drills and the drill press to create joinery and attach hardware to your projects. We will also learn how to smooth and shape your wood projects with the belt sander and thickness planer. By completing this crash course\, you will be trained to properly and safely use the power drill\, drill press\, belt sander\, and planer for future projects at Perennial. \n 
URL:https://perennialstl.org/event/tools-101-drills-sander-planer-21/
LOCATION:Perennial\, 3762 S. Broadway\, Saint Louis\, MO\, 63118\, United States
CATEGORIES:All Classes,Tools 101,Woodworking + Upholstery
ATTACH;FMTTYPE=image/jpeg:https://perennialstl.org/wp-content/uploads/2017/08/drills.-sander.-planer.jpg
GEO:38.586284;-90.22596
X-APPLE-STRUCTURED-LOCATION;VALUE=URI;X-ADDRESS=Perennial 3762 S. Broadway Saint Louis MO 63118 United States;X-APPLE-RADIUS=500;X-TITLE=3762 S. Broadway:geo:-90.22596,38.586284
END:VEVENT
END:VCALENDAR