BEGIN:VCALENDAR
VERSION:2.0
PRODID:-//perennial - ECPv6.14.0//NONSGML v1.0//EN
CALSCALE:GREGORIAN
METHOD:PUBLISH
X-WR-CALNAME:perennial
X-ORIGINAL-URL:https://perennialstl.org
X-WR-CALDESC:Events for perennial
REFRESH-INTERVAL;VALUE=DURATION:PT1H
X-Robots-Tag:noindex
X-PUBLISHED-TTL:PT1H
BEGIN:VTIMEZONE
TZID:America/Chicago
BEGIN:DAYLIGHT
TZOFFSETFROM:-0600
TZOFFSETTO:-0500
TZNAME:CDT
DTSTART:20260308T080000
END:DAYLIGHT
BEGIN:STANDARD
TZOFFSETFROM:-0500
TZOFFSETTO:-0600
TZNAME:CST
DTSTART:20261101T070000
END:STANDARD
END:VTIMEZONE
BEGIN:VEVENT
DTSTART;TZID=America/Chicago:20260415T180000
DTEND;TZID=America/Chicago:20260415T203000
DTSTAMP:20260420T124029
CREATED:20260306T185535Z
LAST-MODIFIED:20260408T141041Z
UID:98813-1776276000-1776285000@perennialstl.org
SUMMARY:Mosaic Stepping Stone
DESCRIPTION:Materials saved from the landfill:\nceramic plates\, scrap glass \nSkills learned:\ncutting tile; mixing and casting concrete \nLearn to use broken plates and forgotten tiles to create a beautiful DIY mosaic! Perennial staff will guide you through each step from cutting tile\, mixing concrete\, and designing your stone. You’ll discover which tools are best for cutting glass vs. tile\, and how to recognize different materials. Each participant will create a unique stepping stone to take home to their outdoor spaces\, and a baking pan mold to continue casting more stones at home! \n 
URL:https://perennialstl.org/event/mosaic-stepping-stone-10/
LOCATION:Perennial\, 3762 S. Broadway\, Saint Louis\, MO\, 63118\, United States
CATEGORIES:All Classes,Home + Garden,Mosaics + Glass
ATTACH;FMTTYPE=image/png:https://perennialstl.org/wp-content/uploads/2025/07/SOLD-OUT-CLASS.png
GEO:38.586284;-90.22596
X-APPLE-STRUCTURED-LOCATION;VALUE=URI;X-ADDRESS=Perennial 3762 S. Broadway Saint Louis MO 63118 United States;X-APPLE-RADIUS=500;X-TITLE=3762 S. Broadway:geo:-90.22596,38.586284
END:VEVENT
END:VCALENDAR